BEGIN:VCALENDAR
VERSION:2.0
PRODID:-//ARTENTO ALAPÍTVÁNY - ECPv6.15.20//NONSGML v1.0//EN
CALSCALE:GREGORIAN
METHOD:PUBLISH
X-ORIGINAL-URL:https://artento.eu
X-WR-CALDESC:Események ARTENTO ALAPÍTVÁNY
REFRESH-INTERVAL;VALUE=DURATION:PT1H
X-Robots-Tag:noindex
X-PUBLISHED-TTL:PT1H
BEGIN:VTIMEZONE
TZID:UTC
BEGIN:STANDARD
TZOFFSETFROM:+0000
TZOFFSETTO:+0000
TZNAME:UTC
DTSTART:20250101T000000
END:STANDARD
END:VTIMEZONE
BEGIN:VEVENT
DTSTART;TZID=UTC:20260314T180000
DTEND;TZID=UTC:20260529T170000
DTSTAMP:20260420T184446
CREATED:20260416T205132Z
LAST-MODIFIED:20260416T210737Z
UID:15362-1773511200-1780074000@artento.eu
SUMMARY:PolOKOSka
DESCRIPTION:A kiállítás és a kapcsolódó programsorozatok célja\, hogy közérthető\, mégis hiteles eligazítást adjon a poloskák világában – amikről mindenkinek van véleménye\, de keveseknek van pontos információja. A POLOKOSKA ezekre a félreértésekre reagál: lebontja a félelmeket\, tisztázza a tévhiteket\, és megmutatja\, mi a különbség a „jaj\, egy poloska!” és az „érdekes\, egy poloska!” között. Innen a cím is: PolOKOSka\, azaz poloska kisokos. \nA Polokoska – Poloska kisokos című kiállítás és programsorozat bemutatja a hazánkban gyakran félreértett és negatívan megítélt poloskák valódi világát. Ezek az érdekes rovarok a közbeszédben sokszor kizárólag zavaró kártevőként jelennek meg\, miközben ökológiai szerepük sokkal összetettebb és jelentősebb. \nA kiállítás keretében valódi preparátumokon\, egy óriás 3D-modellen és látványos makrofotókon keresztül ismerhetjük meg hazai és trópusi poloskafajokat. Posztereinken feltárjuk ökológiai jelentőségüket\, viselkedésüket\, valamint a velük való együttélés gyakorlati\, rovarbarát módszereit. A bemutatás informatív és játékos\, így a látogatók korosztálytól függetlenül érthetik meg a poloskák valós szerepét az ökoszisztémában. \nAz előadások célja a poloskákkal kapcsolatos tévhitek és félelmek eloszlatása\, míg a poloska sétáltatás a környezettudatosság és a biológiai sokféleség iránti érzékenység növelését szolgálják. A városi környezetben élő családok gyakran találkoznak poloskákkal\, mégis kevés hiteles\, közérthető információ áll rendelkezésre róluk – erre a hiányra kíván választ adni a program. \nA kiállításon megtekinthető: \n– Dr. Kondorosy Előd hazai és trópusi poloskagyűjteményéből egy válogatás\,\n– az ArtEnto Alapítvány trópusi poloskagyűjteménye\,\n– Dr. Vásárhelyi Tamás könyvkülönlegességei\, folyóiratok\, és egyedi készítésű mérethű poloska modellek\,\n– a Patkós Stúdió 3D-s 86 cm-es poloskája\,\n– Liu Chung-Yi tajvani természetfotós egzotikus poloskákról készült makrofotói\, \nés ismeretterjesztő poszterek poloskákról. \nTovább: POLOKOSKA – ARTENTO ALAPÍTVÁNY
URL:https://artento.eu/event/polokoska/
LOCATION:ArtEnto Ökocentrum\, Baross u. 32.\, Budapest\, VIII.
ORGANIZER;CN="ArtEnto":MAILTO:info@artento.eu
END:VEVENT
BEGIN:VEVENT
DTSTART;TZID=UTC:20260422T100000
DTEND;TZID=UTC:20260422T150000
DTSTAMP:20260420T184446
CREATED:20260416T203955Z
LAST-MODIFIED:20260416T210848Z
UID:15353-1776852000-1776870000@artento.eu
SUMMARY:Fenntarthatósági Témahét
DESCRIPTION:Idei témánk a rovarok sokszínű szerepe az ökoszisztémában\, hiszen ezek az apró élőlények alapvető szerepet játszanak a természet egyensúlyának fenntartásában.  \nTovábbi infó: Fenntarthatóság 2026
URL:https://artento.eu/event/fenntarthatosagi-temahet/
LOCATION:ArtEnto Ökocentrum\, Baross u. 32.\, Budapest\, VIII.
ORGANIZER;CN="ArtEnto":MAILTO:info@artento.eu
END:VEVENT
BEGIN:VEVENT
DTSTART;TZID=UTC:20260425T100000
DTEND;TZID=UTC:20260425T130000
DTSTAMP:20260420T184446
CREATED:20260416T204225Z
LAST-MODIFIED:20260416T210942Z
UID:15355-1777111200-1777122000@artento.eu
SUMMARY:Józsefvárosi Közösségek Ünnepe
DESCRIPTION:2026-ban  is várunk benneteket a civilek ünnepén! \nÁprilis 25-én újra megrendezésre kerül a Józsefvárosi Közösségek Ünnepe! – Józsefvárosi Önkormányzat
URL:https://artento.eu/event/jozsefvarosi-kozossegek-unnepe/
LOCATION:Horváth Mihály tér\, Budapest\, VIII.\, 1080
ORGANIZER;CN="ArtEnto":MAILTO:info@artento.eu
END:VEVENT
BEGIN:VEVENT
DTSTART;TZID=UTC:20260429T170000
DTEND;TZID=UTC:20260429T190000
DTSTAMP:20260420T184446
CREATED:20260416T200720Z
LAST-MODIFIED:20260417T110334Z
UID:15334-1777482000-1777489200@artento.eu
SUMMARY:Lepkepreparáló tanfolyam 1. alkalom
DESCRIPTION:Szeretnél közelebbről megismerkedni a lepkék világával\, és egy különleges\, maradandó alkotást hazavinni? \nA kétalkalmas lepkepreparáló tanfolyamon lépésről lépésre végigvezetünk a preparálás folyamatán – akkor is\, ha most csinálod először. \nFontos: a tanfolyam két alkalma szorosan egymásra épül\, ezért kérjük\, időben úgy tervezz\, hogy mindkét alkalmon részt tudj venni. \nIdőpontok: 2026. április 29. – május 27.\, 17:00–19:00 \nÉrdeklődéshez töltsd ki ezt az űrlapot: Kétalkalmas lepkepreparáló workshop \nés e-mailben küldjük a részleteket. A jelentkezés a részvételi díj átutalása után válik teljessé. \n  \nJelentkezési határidő: 2026. április 26. (vasárnap) 18:00 óra \nLimitált létszám: minimum 6\, maximum 12 fő vehet részt a tanfolyamon\, így kis létszámú csoportban\, személyes figyelemmel tudunk dolgozni. \n  \nTeljes program: Lepkepreparáló tanfolyam – ARTENTO ALAPÍTVÁNY \n 
URL:https://artento.eu/event/lepkepreparalo-tanfolyam/
LOCATION:ArtEnto Ökocentrum\, Baross u. 32.\, Budapest\, VIII.
ORGANIZER;CN="ArtEnto":MAILTO:info@artento.eu
END:VEVENT
END:VCALENDAR